BEGIN:VCALENDAR
VERSION:2.0
PRODID:-//Perimenopause Massage Therapy &amp; Ayurveda - ECPv6.15.20//NONSGML v1.0//EN
CALSCALE:GREGORIAN
METHOD:PUBLISH
X-ORIGINAL-URL:https://perimenopausemassageayurveda.com
X-WR-CALDESC:Events for Perimenopause Massage Therapy &amp; Ayurveda
REFRESH-INTERVAL;VALUE=DURATION:PT1H
X-Robots-Tag:noindex
X-PUBLISHED-TTL:PT1H
BEGIN:VTIMEZONE
TZID:UTC
BEGIN:STANDARD
TZOFFSETFROM:+0000
TZOFFSETTO:+0000
TZNAME:UTC
DTSTART:20200101T000000
END:STANDARD
END:VTIMEZONE
BEGIN:VTIMEZONE
TZID:America/New_York
BEGIN:DAYLIGHT
TZOFFSETFROM:-0500
TZOFFSETTO:-0400
TZNAME:EDT
DTSTART:20200308T070000
END:DAYLIGHT
BEGIN:STANDARD
TZOFFSETFROM:-0400
TZOFFSETTO:-0500
TZNAME:EST
DTSTART:20201101T060000
END:STANDARD
BEGIN:DAYLIGHT
TZOFFSETFROM:-0500
TZOFFSETTO:-0400
TZNAME:EDT
DTSTART:20210314T070000
END:DAYLIGHT
BEGIN:STANDARD
TZOFFSETFROM:-0400
TZOFFSETTO:-0500
TZNAME:EST
DTSTART:20211107T060000
END:STANDARD
BEGIN:DAYLIGHT
TZOFFSETFROM:-0500
TZOFFSETTO:-0400
TZNAME:EDT
DTSTART:20220313T070000
END:DAYLIGHT
BEGIN:STANDARD
TZOFFSETFROM:-0400
TZOFFSETTO:-0500
TZNAME:EST
DTSTART:20221106T060000
END:STANDARD
END:VTIMEZONE
BEGIN:VEVENT
DTSTART;TZID=UTC:20230809T120000
DTEND;TZID=UTC:20230809T123000
DTSTAMP:20260421T111327
CREATED:20230725T192320Z
LAST-MODIFIED:20230725T192320Z
UID:2598-1691582400-1691584200@perimenopausemassageayurveda.com
SUMMARY:[Online] Foods & Drinks for Women's Health: A 30-Min Workshop
DESCRIPTION:This short workshop is part of a week-long series on Ayurveda for women’s reproductive health. We’ll discuss healthy blood\, yoni care\, yoni steaming and other therapies\, as well as foods and drinks for women’s health. \nThis online workshop is educational in nature and should not take the place of consultation with a qualified medical provider. \nAt this 30-minute online workshop\, you’ll learn about important foods and drinks for all stages of women’s health\, according to Ayurveda. \nYou’ll get familiar with basic guidelines that all women can follow and learn some unique benefits of common foods and drinks that you can utilize to build or maintain health. \nFoods for the following will be covered: \n\nHealthy urination\nStrength-promoting foods\nGentle cleansing foods\nBlood-builders\nMenstruation\nConception\, and more.\n\nLet food by your medicine\, and medicine be your food. Unless you need a doctor\, then let your doctor prescribe you medicine. 🙂
URL:https://perimenopausemassageayurveda.com/event/online-foods-drinks-for-womens-health-a-30-min-workshop
LOCATION:Online
CATEGORIES:beginner friendly,online,women's health
ATTACH;FMTTYPE=image/jpeg:https://perimenopausemassageayurveda.com/wp-content/uploads/2023/07/foods-and-drinks-for-womens-health-600x400-1.jpg
ORGANIZER;CN="Perimenopause Massage Therapy & Ayurveda%2C LLC":MAILTO:hello@perimenopausemassageayurveda.com
END:VEVENT
BEGIN:VEVENT
DTSTART;TZID=UTC:20230808T120000
DTEND;TZID=UTC:20230808T123000
DTSTAMP:20260421T111327
CREATED:20230725T191818Z
LAST-MODIFIED:20230725T191818Z
UID:2595-1691496000-1691497800@perimenopausemassageayurveda.com
SUMMARY:[Online] Yoni Steaming & Other Ayurvedic Yoni Therapies: 30-Min Workshop
DESCRIPTION:This short workshop is part of a week-long series on Ayurveda for women’s reproductive health. We’ll discuss healthy blood\, yoni care\, yoni steaming and other therapies\, as well as foods and drinks for women’s health. \nThis online workshop is educational in nature and should not take the place of consultation with a qualified medical provider. \nAt this 30-minute online workshop\, you’ll learn about the Ayurvedic therapies for the yoni and their applications. All women can benefit at one time or another from these therapies. In menopausal women\, these therapies can be used for dryness\, irritation\, and more. Monthly\, these therapies can be utilized for health maintenance\, following the conclusion of each menstrual cycle. \nThese three therapies\, called yoni dhuman or yoni steaming\, yoni dhavan or herbal wash for the yoni\, and yoni pichu or herbal tamponing\, are processes that can be done at home\, under the guidance of a qualified practitioner. \nLearn Ayurveda’s holistic methods for women’s health.
URL:https://perimenopausemassageayurveda.com/event/online-yoni-steaming-other-ayurvedic-yoni-therapies-30-min-workshop
LOCATION:Online
CATEGORIES:beginner friendly,online,women's health
ATTACH;FMTTYPE=image/jpeg:https://perimenopausemassageayurveda.com/wp-content/uploads/2023/07/yoni-steaming-600x400-1.jpg
ORGANIZER;CN="Perimenopause Massage Therapy & Ayurveda%2C LLC":MAILTO:hello@perimenopausemassageayurveda.com
END:VEVENT
BEGIN:VEVENT
DTSTART;TZID=UTC:20230807T120000
DTEND;TZID=UTC:20230807T123000
DTSTAMP:20260421T111327
CREATED:20230725T191333Z
LAST-MODIFIED:20230725T191333Z
UID:2592-1691409600-1691411400@perimenopausemassageayurveda.com
SUMMARY:[Online] Yoni Care with Ayurveda: 30-Min Vaginal Health Workshop
DESCRIPTION:This short workshop is part of a week-long series on Ayurveda for women’s reproductive health. We’ll discuss healthy blood\, yoni care\, yoni steaming and other therapies\, as well as foods and drinks for women’s health. \nThis online workshop is educational in nature and should not take the place of consultation with a qualified medical provider. \nAt this 30-minute online workshop\, you’ll learn about all the factors that affect the health of the yoni\, important sexual health guidelines for women\, and simple monthly recommended therapies for health maintenance. All suggested guidelines are simple to follow and attainable. \nTake control of your health using the holistic system of Ayurveda. RSVP to receive the Zoom Link.
URL:https://perimenopausemassageayurveda.com/event/online-yoni-care-with-ayurveda-30-min-vaginal-health-workshop
LOCATION:Online
CATEGORIES:beginner friendly,online,women's health
ATTACH;FMTTYPE=image/jpeg:https://perimenopausemassageayurveda.com/wp-content/uploads/2023/07/yoni-care-for-women-with-ayurveda-600x400-1.jpg
ORGANIZER;CN="Perimenopause Massage Therapy & Ayurveda%2C LLC":MAILTO:hello@perimenopausemassageayurveda.com
END:VEVENT
BEGIN:VEVENT
DTSTART;TZID=UTC:20230806T120000
DTEND;TZID=UTC:20230806T123000
DTSTAMP:20260421T111327
CREATED:20230725T191014Z
LAST-MODIFIED:20230725T191014Z
UID:2589-1691323200-1691325000@perimenopausemassageayurveda.com
SUMMARY:[Online] Ayurveda for Healthy Blood & Moon Cycles: 30-Min Workshop
DESCRIPTION:This short workshop is part of a week-long series on Ayurveda for women’s reproductive health. We’ll discuss healthy blood\, yoni care\, yoni steaming and other therapies\, as well as foods and drinks for women’s health. \nThis online workshop is educational in nature and should not take the place of consultation with a qualified medical provider. \nBlood health affects menstruation\, PMS\, perimenopause\, and menopause. At this 30-minute online workshop\, you’ll learn how digestion impacts the production of blood\, important actions you can take for proper digestion\, and the essential Ayurvedic guidelines for healthy blood. All guidelines are simple to follow and attainable. Take control of your health with Ayurveda. \nFree Download ‘Ayurveda for Healthy Blood’ for all Participants.
URL:https://perimenopausemassageayurveda.com/event/online-ayurveda-for-healthy-blood-moon-cycles-30-min-workshop
LOCATION:Online
CATEGORIES:beginner friendly,online,women's health
ATTACH;FMTTYPE=image/jpeg:https://perimenopausemassageayurveda.com/wp-content/uploads/2023/07/ayurveda-for-healthy-blood-600x400-1.jpg
ORGANIZER;CN="Perimenopause Massage Therapy & Ayurveda%2C LLC":MAILTO:hello@perimenopausemassageayurveda.com
END:VEVENT
BEGIN:VEVENT
DTSTART;TZID=UTC:20230713T120000
DTEND;TZID=UTC:20230713T130000
DTSTAMP:20260421T111327
CREATED:20230623T014424Z
LAST-MODIFIED:20230623T014424Z
UID:2534-1689249600-1689253200@perimenopausemassageayurveda.com
SUMMARY:[Free + Online] Ayurvedic Methods to Ease Anxiety
DESCRIPTION:JOIN HERE: https://us02web.zoom.us/j/89744661142 \nAyurveda is the traditional medical system of India and the oldest medical system in the world. \nDuring this one hour webinar\, you’ll learn about Ayurvedic methods for managing anxiety\, from body treatments\, to diet and lifestyle adjustments\, remedies\, herbs\, and more. This event will be recorded. \nCome ready to take notes; this webinar will be jam-packed with information you can use immediately. \n\nFoods and drinks that support peace and calm\nHabits and diets that trigger anxiety and fear\nAyurvedic body treatments for peace of mind\nLifestyle tips for serenity\n\nAll attendees receive free downloads with Ayurveda lifestyle tips to ease anxiety and establish health. Show up live and get your questions answered. \nJOIN HERE: https://us02web.zoom.us/j/89744661142
URL:https://perimenopausemassageayurveda.com/event/free-online-ayurvedic-methods-to-ease-anxiety
LOCATION:Online
CATEGORIES:beginner friendly,free,online
ATTACH;FMTTYPE=image/jpeg:https://perimenopausemassageayurveda.com/wp-content/uploads/2023/06/ayurvedic-methods-to-ease-anxiety-600x400-1.jpg
ORGANIZER;CN="Perimenopause Massage Therapy & Ayurveda%2C LLC":MAILTO:hello@perimenopausemassageayurveda.com
END:VEVENT
BEGIN:VEVENT
DTSTART;TZID=UTC:20230627T180000
DTEND;TZID=UTC:20230627T193000
DTSTAMP:20260421T111327
CREATED:20230623T010539Z
LAST-MODIFIED:20230623T010539Z
UID:2531-1687888800-1687894200@perimenopausemassageayurveda.com
SUMMARY:[Free + Online] Intro to Ayurveda Webinar
DESCRIPTION:Ayurveda\, the traditional medical system of India\, has the most comprehensive preventative health knowledge in the world. At this introductory workshop\, you’ll learn the very basics of Ayurveda and your Ayurvedic body type. With direct guidance from Jennifer Maklan\, Ayurvedic Physician\, you’ll then devise a seasonal plan for your health. Come ready to take notes; this webinar will be jam-packed with information you can use immediately. \nLearn the fundamentals of Ayurveda for health. Personalize your self care. Create an Ayurvedic daily routine that’s designed specifically for you. \nThis class is being offered for free for the very first (and quite possibly the only) time ever. You must sign up to get the free downloads and the link. \nREGISTER HERE: https://perimenopausemassageayurveda.com/online-intro-to-ayurveda \nAll attendees receive a free digital copy of Jennifer’s principle workbook\, ‘My Personalized Ayurvedic Health Plan’ AND a free copy of the Ayurvedic Food Combining Guidelines. Show up live and get your questions answered.
URL:https://perimenopausemassageayurveda.com/event/free-online-intro-to-ayurveda-webinar
LOCATION:Online
CATEGORIES:beginner friendly,free,online
ATTACH;FMTTYPE=image/jpeg:https://perimenopausemassageayurveda.com/wp-content/uploads/2023/06/intro-to-ayurveda-online-pothili.jpg
ORGANIZER;CN="Perimenopause Massage Therapy & Ayurveda%2C LLC":MAILTO:hello@perimenopausemassageayurveda.com
END:VEVENT
BEGIN:VEVENT
DTSTART;TZID=UTC:20230614T120000
DTEND;TZID=UTC:20230614T133000
DTSTAMP:20260421T111327
CREATED:20230424T175517Z
LAST-MODIFIED:20230424T175759Z
UID:2452-1686744000-1686749400@perimenopausemassageayurveda.com
SUMMARY:Yoga Teachers' Ayurveda Webinar
DESCRIPTION:Yoga teachers\, the practice of Ayurveda in the U.S. is changing. More and more Ayurvedic practitioners are learning Ayurveda as it is taught in India. \n“So what?”\, you say. \nBoth you AND your students will benefit from learning this refined and ever dynamic science of ayus\, or life. \nAs the practice of Ayurveda in the U.S. evolves\, so should your own understanding of it.\nAyurveda has been largely misrepresented\, westernized\, and even modified to suit American culture. \nThe truth is\, you ought to know how this authentic Ayurveda works too\, so you can present it accurately to your students and utilize its core concepts of doshas and body types even more effectively. \nMost importantly\, when you’re empowered with an understanding of authentic Ayurveda\, your practice and services remain aligned with ancient principles. \nAs a teacher of yoga\, you are an ambassador for Ayurveda\, the sister-science to yoga.\nSign up for this masterclass for a fresh perspective on the authentic practice of Ayurveda from a classically trained Ayurvedic practitioner. \nWhat You’ll Learn \n\nHow Ayurveda from India is different and the most impactful for health\nWhen to use core concepts in your practice\nWhich common Ayurvedic preconceptions are actually inaccurate\nImportant Ayurvedic guidelines for vyayama (exercise)\nHow to utilize yogasanas (yoga asanas) for body types\nWhich women’s health concerns are affected by yoga\nWhen and how to use Ayurveda’s authentic detox methods\n\nDate: Wednesday\, June 14th\nTime: 12-1:30pm\nLocation: Zoom \nSIGN UP HERE:\nhttps://perimenopausemassageayurveda.com/yoga-teachers-ayurveda-masterclass
URL:https://perimenopausemassageayurveda.com/event/yoga-teachers-ayurveda-webinar
LOCATION:Online
CATEGORIES:free,online
ATTACH;FMTTYPE=image/jpeg:https://perimenopausemassageayurveda.com/wp-content/uploads/2023/04/Untitled-design-88.jpg
ORGANIZER;CN="Perimenopause Massage Therapy & Ayurveda%2C LLC":MAILTO:hello@perimenopausemassageayurveda.com
END:VEVENT
BEGIN:VEVENT
DTSTART;TZID=UTC:20230607T120000
DTEND;TZID=UTC:20230607T130000
DTSTAMP:20260421T111327
CREATED:20230412T140759Z
LAST-MODIFIED:20230412T140921Z
UID:2402-1686139200-1686142800@perimenopausemassageayurveda.com
SUMMARY:Ayurveda Q&A Session: Ask your health questions!
DESCRIPTION:Do you wonder about the Ayurvedic view on various health practices\, foods or remedies? A variety of recent questions sparked the idea that a Q&A session might be useful. That way\, you can ask your own questions and learn more about Ayurveda in the process. \nAt this first Q&A session\, we’ll allow you to share your questions and when time allows\, we’ll explore some questions already submitted… the best deodorant to use\, which laundry detergent to use\, and how Ayurveda can support detoxification from mercury dental fillings. \nPLEASE USE THE LINK BELOW TO RSVP. \nAyurveda is the traditional medical system of India. Applicable to all people and all localities\, Ayurveda is probably the oldest medical system on the planet. It uses diet and lifestyle adjustments along with Ayurvedic herbal formulations\, body treatments\, and cleansing processes\, to reestablish proper balance in the body and mind.
URL:https://perimenopausemassageayurveda.com/event/ayurveda-qa-session-ask-your-health-questions
LOCATION:Online
CATEGORIES:beginner friendly,free,online
ATTACH;FMTTYPE=image/jpeg:https://perimenopausemassageayurveda.com/wp-content/uploads/2023/04/Untitled-design-85.jpg
ORGANIZER;CN="Perimenopause Massage Therapy & Ayurveda%2C LLC":MAILTO:hello@perimenopausemassageayurveda.com
END:VEVENT
BEGIN:VEVENT
DTSTART;TZID=UTC:20230516T180000
DTEND;TZID=UTC:20230516T193000
DTSTAMP:20260421T111327
CREATED:20230412T135642Z
LAST-MODIFIED:20230412T135642Z
UID:2396-1684260000-1684265400@perimenopausemassageayurveda.com
SUMMARY:Introduction to Ayurveda: Create a Personalized Ayurvedic Health Plan [ONLINE]
DESCRIPTION:In this introductory course\, you’ll learn the basic principles of Ayurveda\, the traditional medical system of India\, from a trained Ayurvedic practitioner. You’ll receive practical health guidelines for the southeast’s humid climate\, the Ayurvedic rules for yoga and exercise\, and Ayurvedic meal planning directions for optimal health. You’ll learn how to select and implement Ayurvedic morning therapies and you’ll walk away with an entire Ayurvedic daily routine that’s personalized to your body type and the season. \nAbout the instructor:  \nJennifer Maklan is an Āyurvedic Practitioner with training in classical Āyurveda\, the traditional medical system of India. Jennifer completed the Svastha Ācarya Program at ĀYU Academy\, a leading Āyurveda education program that teaches Ayurveda as it is taught in India. She is trained in Āyurvedic therapies and is currently continuing her education in the Samudra Ayurvedic Physicians Program. Jennifer founded and directed a popular online Ayurveda directory which was later acquired by an international Āyurvedic skincare giant. While there\, Jennifer became Senior Manager of U.S. Operations and directed various online and offline Ayurveda-related projects. To learn more about Ayurveda and view available programs\, free consultations\, and services\, visit ChattanoogaAyurveda.com.
URL:https://perimenopausemassageayurveda.com/event/introduction-to-ayurveda-create-a-personalized-ayurvedic-health-plan-online
LOCATION:Online
CATEGORIES:beginner friendly,online
ATTACH;FMTTYPE=image/jpeg:https://perimenopausemassageayurveda.com/wp-content/uploads/2023/04/intro-to-ayurveda-chattery.jpg
ORGANIZER;CN="Perimenopause Massage Therapy & Ayurveda%2C LLC":MAILTO:hello@perimenopausemassageayurveda.com
END:VEVENT
BEGIN:VEVENT
DTSTART;TZID=UTC:20230425T120000
DTEND;TZID=UTC:20230425T130000
DTSTAMP:20260421T111327
CREATED:20230316T192123Z
LAST-MODIFIED:20230403T180326Z
UID:2308-1682424000-1682427600@perimenopausemassageayurveda.com
SUMMARY:Free Menopause Mastery with Ayurveda Webinar
DESCRIPTION:If menopause has you too tired to do anything\, exploding erratically\, or throwing your covers off in the middle of the night\, hormone therapy need not be your only support. Hot flashes\, night sweats\, insomnia\, moodiness\, and more\, can leave you wondering who you are and how to lessen the impact on your family. With Ayurveda\, the ancient medical system of India\, you can take the right holistic steps towards the perfect health you deserve. Menopause is a passageway into an energetic\, purposeful and productive time of life. At this workshop\, you’ll learn how to harness this transformative time\, why these symptoms arise\, when to consider alternatives\, and how to reclaim your moods\, body temperature and relationships naturally. \nAbout the instructor:\nJennifer Maklan is an Āyurvedic Practitioner with training in classical Āyurveda\, the traditional medical system of India. Jennifer completed the Svastha Ācarya Program at ĀYU Academy\, a leading Āyurveda education program that teaches Ayurveda as it is taught in India. She is trained in Āyurvedic therapies and is currently continuing her education in the Samudra Ayurvedic Physicians Program. Jennifer founded and directed a popular online Ayurveda directory which was later acquired by an international Āyurvedic skincare giant. While there\, Jennifer became Senior Manager of U.S. Operations and directed various online and offline Ayurveda-related projects. To learn more about Ayurveda and view available programs\, free consultations\, and services\, visit ChattanoogaAyurveda.com.
URL:https://perimenopausemassageayurveda.com/event/free-menopause-mastery-with-ayurveda-webinar
LOCATION:Online
CATEGORIES:beginner friendly,free,online
ATTACH;FMTTYPE=image/jpeg:https://perimenopausemassageayurveda.com/wp-content/uploads/2022/11/Untitled-design-64.jpg
ORGANIZER;CN="Perimenopause Massage Therapy & Ayurveda%2C LLC":MAILTO:hello@perimenopausemassageayurveda.com
END:VEVENT
BEGIN:VEVENT
DTSTART;TZID=UTC:20230412T120000
DTEND;TZID=UTC:20230412T130000
DTSTAMP:20260421T111327
CREATED:20230316T191933Z
LAST-MODIFIED:20230316T191933Z
UID:2305-1681300800-1681304400@perimenopausemassageayurveda.com
SUMMARY:Free IBS Mastery with Ayurveda Webinar
DESCRIPTION:According to the International Foundation for Gastrointestinal Disorders\, IBS affects upwards of 45 million people in the United States. Two out of three of those sufferers are female. The good news is\, there are more options for healing the gut then antidiarrhoeals and laxatives. Ayurveda has offered holistic methods for stabilizing gut health for thousands of years. At this free webinar\, you’ll learn what those methods are\, the causative factors that contribute to dysregulated elimination habits\, and the lifestyle tips you need to maintain to realize good gut health throughout your life. \nAbout the instructor:\nJennifer Maklan is an Āyurvedic Practitioner with training in classical Āyurveda\, the traditional medical system of India. Jennifer completed the Svastha Ācarya Program at ĀYU Academy\, a leading Āyurveda education program that teaches Ayurveda as it is taught in India. She is trained in Āyurvedic therapies and is currently continuing her education in the Samudra Ayurvedic Physicians Program. Jennifer founded and directed a popular online Ayurveda directory which was later acquired by an international Āyurvedic skincare giant. While there\, Jennifer became Senior Manager of U.S. Operations and directed various online and offline Ayurveda-related projects. To learn more about Ayurveda and view available programs\, free consultations\, and services\, visit ChattanoogaAyurveda.com.
URL:https://perimenopausemassageayurveda.com/event/free-ibs-mastery-with-ayurveda-webinar
LOCATION:Online
CATEGORIES:beginner friendly,free,online
ATTACH;FMTTYPE=image/jpeg:https://perimenopausemassageayurveda.com/wp-content/uploads/2023/03/Untitled-design-74.jpg
ORGANIZER;CN="Perimenopause Massage Therapy & Ayurveda%2C LLC":MAILTO:hello@perimenopausemassageayurveda.com
END:VEVENT
BEGIN:VEVENT
DTSTART;TZID=UTC:20230308T120000
DTEND;TZID=UTC:20230308T130000
DTSTAMP:20260421T111327
CREATED:20230209T023536Z
LAST-MODIFIED:20230307T141223Z
UID:2280-1678276800-1678280400@perimenopausemassageayurveda.com
SUMMARY:Free Menopause Mastery Webinar with Ayurveda
DESCRIPTION:If menopause has you too tired to do anything\, exploding erratically\, or throwing your covers off in the middle of the night\, hormone therapy need not be your only support. Hot flashes\, night sweats\, insomnia\, moodiness\, and more\, can leave you wondering who you are and how to lessen the impact on your family. With Ayurveda\, the ancient medical system of India\, you can take the right holistic steps towards the perfect health you deserve. Menopause is a passageway into an energetic\, purposeful and productive time of life. At this workshop\, you’ll learn how to harness this transformative time\, why these symptoms arise\, when to consider alternatives\, and how to reclaim your moods\, body temperature and relationships naturally.
URL:https://perimenopausemassageayurveda.com/event/free-menopause-mastery-webinar-with-ayurveda
LOCATION:Online
CATEGORIES:beginner friendly,free,online,women's health
ATTACH;FMTTYPE=image/jpeg:https://perimenopausemassageayurveda.com/wp-content/uploads/2022/11/Untitled-design-64.jpg
ORGANIZER;CN="Perimenopause Massage Therapy & Ayurveda%2C LLC":MAILTO:hello@perimenopausemassageayurveda.com
END:VEVENT
BEGIN:VEVENT
DTSTART;TZID=UTC:20221207T190000
DTEND;TZID=UTC:20221207T200000
DTSTAMP:20260421T111327
CREATED:20221126T180048Z
LAST-MODIFIED:20221126T180227Z
UID:2097-1670439600-1670443200@perimenopausemassageayurveda.com
SUMMARY:FREE Menopause & Ayurveda Webinar
DESCRIPTION:If menopause has you too tired to do anything\, exploding erratically\, or throwing your covers off in the middle of the night\, hormone therapy need not be your only support. Hot flashes\, night sweats\, insomnia\, moodiness\, and more\, can leave you wondering who you are and how to lessen the impact on your family. With Ayurveda\, the ancient medical system of India\, you can take the right holistic steps towards the perfect health you deserve. Menopause is a passageway into an energetic\, purposeful and productive time of life. At this workshop\, you’ll learn how to harness this transformative time\, why these symptoms arise\, when to consider alternatives\, and how to reclaim your moods\, body temperature and relationships naturally. \nSign up here: https://perimenopausemassageayurveda.com/menopause-mastery-webinar \nAbout the instructor: \nJennifer Maklan is an Āyurvedic Practitioner with training in classical Āyurveda\, the traditional medical system of India. Jennifer completed the Svastha Ācarya Program at ĀYU Academy\, a leading Āyurveda education program that teaches Ayurveda as it is taught in India. She is trained in Āyurvedic therapies and is currently continuing her education in the Samudra Ayurvedic Physicians Program. Jennifer founded and directed a popular online Ayurveda directory which was later acquired by an international Āyurvedic skincare giant. While there\, Jennifer became Senior Manager of U.S. Operations and directed various online and offline Ayurveda-related projects. To learn more about Ayurveda and view available programs\, free consultations\, and services\, visit ChattanoogaAyurveda.com.
URL:https://perimenopausemassageayurveda.com/event/free-menopause-ayurveda-webinar
LOCATION:Online
CATEGORIES:beginner friendly,free,online,women's health
ATTACH;FMTTYPE=image/jpeg:https://perimenopausemassageayurveda.com/wp-content/uploads/2022/11/Untitled-design-64.jpg
ORGANIZER;CN="Perimenopause Massage Therapy & Ayurveda%2C LLC":MAILTO:hello@perimenopausemassageayurveda.com
END:VEVENT
BEGIN:VEVENT
DTSTART;TZID=UTC:20211117T100000
DTEND;TZID=UTC:20211117T110000
DTSTAMP:20260421T111327
CREATED:20211112T153458Z
LAST-MODIFIED:20211112T164358Z
UID:1801-1637143200-1637146800@perimenopausemassageayurveda.com
SUMMARY:Perimenopause: 3 Things You May Not Hear From Your Doctor And A Simple Approach to Feel Better Fast
DESCRIPTION:You have more control over your health and wellbeing than you’re taught. According to Ayurveda\, perimenopause heightens the underlying issues in a woman’s body\, giving way to a variety of symptoms. Come learn about the Ayurvedic approach to perimenopause and simple ways you can feel better fast. \nCost: FREE \nJoin Here: https://us02web.zoom.us/j/88603733614
URL:https://perimenopausemassageayurveda.com/event/perimenopause-webinar
LOCATION:Online
CATEGORIES:free,online,women's health
ATTACH;FMTTYPE=image/jpeg:https://perimenopausemassageayurveda.com/wp-content/uploads/2021/11/Add-a-heading.jpg
ORGANIZER;CN="Jennifer Maklan":MAILTO:info@perimenopausemassageayurveda.com
END:VEVENT
BEGIN:VEVENT
DTSTART;TZID=America/New_York:20210926T123000
DTEND;TZID=America/New_York:20210926T140000
DTSTAMP:20260421T111327
CREATED:20210830T190142Z
LAST-MODIFIED:20210901T124352Z
UID:1464-1632659400-1632664800@perimenopausemassageayurveda.com
SUMMARY:Virtual Āyurvedic Nutrition and Practices for the Menstrual Cycle
DESCRIPTION:This holistic approach to menstrual health may guide you into easy periods every month and an easy transition through menopause. The Āyurvedic diet and practices for the menstrual cycle align with yogic routines\, build awareness of menstrual health and improve understanding of one’s constitution or body type. \nView\, print or download the Event Flyer. \nSuggested Donation: $35 Send via Venmo to @ChattanoogaAyurveda \nRegister here (enter $0 to register): https://clients.mindbodyonline.com/ASP/main_shop.asp?stype=41&pMode=4&reSchedule=&origId=&recType=&recNum=
URL:https://perimenopausemassageayurveda.com/event/virtual-menstrual-cycle-psy
LOCATION:Online
CATEGORIES:beginner friendly,online,women's health
ATTACH;FMTTYPE=image/jpeg:https://perimenopausemassageayurveda.com/wp-content/uploads/2021/08/menstrual-cycle-peace-strength-yoga.jpg
END:VEVENT
END:VCALENDAR