BEGIN:VCALENDAR
VERSION:2.0
PRODID:-//Perimenopause Massage Therapy &amp; Ayurveda - ECPv6.15.20//NONSGML v1.0//EN
CALSCALE:GREGORIAN
METHOD:PUBLISH
X-WR-CALNAME:Perimenopause Massage Therapy &amp; Ayurveda
X-ORIGINAL-URL:https://perimenopausemassageayurveda.com
X-WR-CALDESC:Events for Perimenopause Massage Therapy &amp; Ayurveda
REFRESH-INTERVAL;VALUE=DURATION:PT1H
X-Robots-Tag:noindex
X-PUBLISHED-TTL:PT1H
BEGIN:VTIMEZONE
TZID:UTC
BEGIN:STANDARD
TZOFFSETFROM:+0000
TZOFFSETTO:+0000
TZNAME:UTC
DTSTART:20250101T000000
END:STANDARD
END:VTIMEZONE
BEGIN:VEVENT
DTSTART;TZID=UTC:20260117T150000
DTEND;TZID=UTC:20260117T163000
DTSTAMP:20260424T130105
CREATED:20251127T173836Z
LAST-MODIFIED:20251127T173836Z
UID:4104-1768662000-1768667400@perimenopausemassageayurveda.com
SUMMARY:The Menopause Types: Personalized Self-Care for All Women
DESCRIPTION:Your menopause experience is unique to you and your self-care should be too. \nLearn the three body types of the ancient Ayurvedic system of health\, how each type experiences menopause\, and the self-care methods to find balance once again. \nTaught by Ayurvedic practitioner Jennifer Maklan\, LMT\, local Ayurveda expert\, this class guides you on methods you can use to reestablish a feeling of health.
URL:https://perimenopausemassageayurveda.com/event/the-menopause-types-personalized-self-care-for-all-women
LOCATION:The Chattery\, 231 Broad Street\, Chattanooga\, TN\, 37402\, United States
CATEGORIES:beginner friendly,women's health
ATTACH;FMTTYPE=image/jpeg:https://perimenopausemassageayurveda.com/wp-content/uploads/2025/11/menopause-types.jpg
ORGANIZER;CN="Perimenopause Massage Therapy & Ayurveda%2C LLC":MAILTO:hello@perimenopausemassageayurveda.com
END:VEVENT
BEGIN:VEVENT
DTSTART;TZID=UTC:20260122T180000
DTEND;TZID=UTC:20260122T193000
DTSTAMP:20260424T130105
CREATED:20251127T174206Z
LAST-MODIFIED:20251127T174206Z
UID:4107-1769104800-1769110200@perimenopausemassageayurveda.com
SUMMARY:Introduction to Ayurveda
DESCRIPTION:Ayurveda\, pronounced ‘eye-your-vay-da’\, is India’s ancient system of health and healing. \nProfoundly rooted in nature\, Ayurveda highlights personalized self-care based on one’s constitution and state of balance. Popularized in America by Deepak Chopra\, yoga\, and the Transcendental Meditation movement\, Ayurveda is actually a sophisticated and scientific approach to health. \nAt this class\, you’ll learn your Ayurvedic body type\, Ayurvedic lifestyle wisdom for each type\, and ancient Indian methods for balance. You’ll discover how an ancient system for healing is still applicable today as complementary care and the ways you can make use of it yourself.
URL:https://perimenopausemassageayurveda.com/event/introduction-to-ayurveda
LOCATION:The Chattery\, 231 Broad Street\, Chattanooga\, TN\, 37402\, United States
CATEGORIES:beginner friendly
ATTACH;FMTTYPE=image/png:https://perimenopausemassageayurveda.com/wp-content/uploads/2025/11/Untitled-design-2025-11-19T172349.102.png
ORGANIZER;CN="Perimenopause Massage Therapy & Ayurveda%2C LLC":MAILTO:hello@perimenopausemassageayurveda.com
END:VEVENT
END:VCALENDAR